Package: metabolomicsWorkbenchR Version: 1.17.0 Command: chmod a+r metabolomicsWorkbenchR -R && E:\biocbuild\bbs-3.21-bioc\R\bin\R.exe CMD build --keep-empty-dirs --no-resave-data metabolomicsWorkbenchR StartedAt: 2025-02-20 19:49:12 -0500 (Thu, 20 Feb 2025) EndedAt: 2025-02-20 19:50:34 -0500 (Thu, 20 Feb 2025) EllapsedTime: 81.9 seconds RetCode: 0 Status: OK PackageFile: metabolomicsWorkbenchR_1.17.0.tar.gz PackageFileSize: 2.317 MiB