Package: metabolomicsWorkbenchR Version: 1.17.0 Command: rm -rf metabolomicsWorkbenchR.buildbin-libdir && mkdir metabolomicsWorkbenchR.buildbin-libdir && E:\biocbuild\bbs-3.21-bioc\R\bin\R.exe CMD INSTALL --build --library=metabolomicsWorkbenchR.buildbin-libdir metabolomicsWorkbenchR_1.17.0.tar.gz StartedAt: 2025-02-21 08:29:36 -0500 (Fri, 21 Feb 2025) EndedAt: 2025-02-21 08:31:56 -0500 (Fri, 21 Feb 2025) EllapsedTime: 140.1 seconds RetCode: 0 Status: OK PackageFile: metabolomicsWorkbenchR_1.17.0.zip PackageFileSize: 2.292 MiB