Package: metabolomicsWorkbenchR Version: 1.17.0 Command: /home/biocbuild/bbs-3.21-bioc/R/bin/R CMD INSTALL metabolomicsWorkbenchR StartedAt: 2025-02-20 15:43:23 -0500 (Thu, 20 Feb 2025) EndedAt: 2025-02-20 15:43:51 -0500 (Thu, 20 Feb 2025) EllapsedTime: 27.7 seconds RetCode: 0 Status: OK