Package: metabolomicsWorkbenchR Version: 1.17.0 Command: /home/biocbuild/bbs-3.21-bioc/R/bin/R CMD build --keep-empty-dirs --no-resave-data metabolomicsWorkbenchR StartedAt: 2025-02-20 18:06:40 -0500 (Thu, 20 Feb 2025) EndedAt: 2025-02-20 18:07:29 -0500 (Thu, 20 Feb 2025) EllapsedTime: 49.1 seconds RetCode: 0 Status: OK PackageFile: metabolomicsWorkbenchR_1.17.0.tar.gz PackageFileSize: 2.395 MiB