Package: metabolomicsWorkbenchR Version: 1.17.0 Command: /Library/Frameworks/R.framework/Resources/bin/R CMD build --keep-empty-dirs --no-resave-data metabolomicsWorkbenchR StartedAt: 2025-02-20 17:15:15 -0500 (Thu, 20 Feb 2025) EndedAt: 2025-02-20 17:16:12 -0500 (Thu, 20 Feb 2025) EllapsedTime: 57.1 seconds RetCode: 0 Status: OK PackageFile: metabolomicsWorkbenchR_1.17.0.tar.gz PackageFileSize: 2.399 MiB