Package: metabolomicsWorkbenchR Version: 1.17.0 Command: rm -rf metabolomicsWorkbenchR.buildbin-libdir && mkdir metabolomicsWorkbenchR.buildbin-libdir && /Users/biocbuild/BBS/utils/build-universal.sh metabolomicsWorkbenchR_1.17.0.tar.gz /Library/Frameworks/R.framework/Resources/bin/R metabolomicsWorkbenchR.buildbin-libdir StartedAt: 2025-02-20 22:24:54 -0500 (Thu, 20 Feb 2025) EndedAt: 2025-02-20 22:25:07 -0500 (Thu, 20 Feb 2025) EllapsedTime: 13.3 seconds RetCode: 0 Status: OK PackageFile: metabolomicsWorkbenchR_1.17.0.tgz PackageFileSize: 2.372 MiB