Package: metabCombiner Version: 1.17.0 Command: E:\biocbuild\bbs-3.21-bioc\R\bin\R.exe CMD INSTALL metabCombiner StartedAt: 2025-02-20 15:59:38 -0500 (Thu, 20 Feb 2025) EndedAt: 2025-02-20 16:01:18 -0500 (Thu, 20 Feb 2025) EllapsedTime: 99.3 seconds RetCode: 0 Status: OK