Package: metabCombiner Version: 1.17.0 Command: chmod a+r metabCombiner -R && E:\biocbuild\bbs-3.21-bioc\R\bin\R.exe CMD build --keep-empty-dirs --no-resave-data metabCombiner StartedAt: 2025-02-20 19:48:45 -0500 (Thu, 20 Feb 2025) EndedAt: 2025-02-20 19:49:51 -0500 (Thu, 20 Feb 2025) EllapsedTime: 65.8 seconds RetCode: 0 Status: OK PackageFile: metabCombiner_1.17.0.tar.gz PackageFileSize: 2.485 MiB