Package: metabCombiner Version: 1.17.0 Command: rm -rf metabCombiner.buildbin-libdir && mkdir metabCombiner.buildbin-libdir && E:\biocbuild\bbs-3.21-bioc\R\bin\R.exe CMD INSTALL --build --library=metabCombiner.buildbin-libdir metabCombiner_1.17.0.tar.gz StartedAt: 2025-02-21 08:29:28 -0500 (Fri, 21 Feb 2025) EndedAt: 2025-02-21 08:31:02 -0500 (Fri, 21 Feb 2025) EllapsedTime: 93.6 seconds RetCode: 0 Status: OK PackageFile: metabCombiner_1.17.0.zip PackageFileSize: 2.879 MiB