Package: metabCombiner Version: 1.17.0 Command: /Library/Frameworks/R.framework/Resources/bin/R CMD check --install=check:metabCombiner.install-out.txt --library=/Library/Frameworks/R.framework/Resources/library --no-vignettes --timings metabCombiner_1.17.0.tar.gz StartedAt: 2025-02-20 21:27:59 -0500 (Thu, 20 Feb 2025) EndedAt: 2025-02-20 21:30:29 -0500 (Thu, 20 Feb 2025) EllapsedTime: 149.4 seconds RetCode: 0 Status: OK CheckDir: metabCombiner.Rcheck Warnings: 0