Package: metabCombiner Version: 1.17.0 Command: rm -rf metabCombiner.buildbin-libdir && mkdir metabCombiner.buildbin-libdir && /Users/biocbuild/BBS/utils/build-universal.sh metabCombiner_1.17.0.tar.gz /Library/Frameworks/R.framework/Resources/bin/R metabCombiner.buildbin-libdir StartedAt: 2025-02-21 00:38:53 -0500 (Fri, 21 Feb 2025) EndedAt: 2025-02-21 00:39:21 -0500 (Fri, 21 Feb 2025) EllapsedTime: 28.0 seconds RetCode: 0 Status: OK PackageFile: metabCombiner_1.17.0.tgz PackageFileSize: 2.939 MiB