Package: metabCombiner Version: 1.17.0 Command: /Library/Frameworks/R.framework/Resources/bin/R CMD INSTALL metabCombiner StartedAt: 2025-02-19 15:23:53 -0500 (Wed, 19 Feb 2025) EndedAt: 2025-02-19 15:24:01 -0500 (Wed, 19 Feb 2025) EllapsedTime: 7.3 seconds RetCode: 0 Status: OK