Package: metaSeq Version: 1.47.0 Command: /home/biocbuild/bbs-3.21-bioc/R/bin/R CMD INSTALL metaSeq StartedAt: 2025-02-20 15:22:36 -0500 (Thu, 20 Feb 2025) EndedAt: 2025-02-20 15:22:42 -0500 (Thu, 20 Feb 2025) EllapsedTime: 6.2 seconds RetCode: 0 Status: OK