Package: metaMS Version: 1.43.0 Command: chmod a+r metaMS -R && E:\biocbuild\bbs-3.21-bioc\R\bin\R.exe CMD build --keep-empty-dirs --no-resave-data metaMS StartedAt: 2025-02-19 19:48:26 -0500 (Wed, 19 Feb 2025) EndedAt: 2025-02-19 19:50:10 -0500 (Wed, 19 Feb 2025) EllapsedTime: 103.6 seconds RetCode: 0 Status: OK PackageFile: metaMS_1.43.0.tar.gz PackageFileSize: 3.554 MiB