Package: metaMS Version: 1.43.0 Command: /Library/Frameworks/R.framework/Resources/bin/R CMD INSTALL metaMS StartedAt: 2025-02-20 15:19:26 -0500 (Thu, 20 Feb 2025) EndedAt: 2025-02-20 15:19:43 -0500 (Thu, 20 Feb 2025) EllapsedTime: 17.5 seconds RetCode: 0 Status: OK