Package: metaMS Version: 1.43.0 Command: rm -rf metaMS.buildbin-libdir && mkdir metaMS.buildbin-libdir && /Users/biocbuild/BBS/utils/build-universal.sh metaMS_1.43.0.tar.gz /Library/Frameworks/R.framework/Resources/bin/R metaMS.buildbin-libdir StartedAt: 2025-02-20 22:25:00 -0500 (Thu, 20 Feb 2025) EndedAt: 2025-02-20 22:25:20 -0500 (Thu, 20 Feb 2025) EllapsedTime: 20.4 seconds RetCode: 0 Status: OK PackageFile: metaMS_1.43.0.tgz PackageFileSize: 4.296 MiB