Package: metaCCA Version: 1.35.0 Command: E:\biocbuild\bbs-3.21-bioc\R\bin\R.exe CMD check --no-multiarch --install=check:metaCCA.install-out.txt --library=E:\biocbuild\bbs-3.21-bioc\R\library --no-vignettes --timings metaCCA_1.35.0.tar.gz StartedAt: 2025-02-21 03:00:44 -0500 (Fri, 21 Feb 2025) EndedAt: 2025-02-21 03:01:13 -0500 (Fri, 21 Feb 2025) EllapsedTime: 29.7 seconds RetCode: 0 Status: WARNINGS CheckDir: metaCCA.Rcheck Warnings: 1