Package: metaCCA Version: 1.35.0 Command: rm -rf metaCCA.buildbin-libdir && mkdir metaCCA.buildbin-libdir && E:\biocbuild\bbs-3.21-bioc\R\bin\R.exe CMD INSTALL --build --library=metaCCA.buildbin-libdir metaCCA_1.35.0.tar.gz StartedAt: 2025-02-21 08:29:48 -0500 (Fri, 21 Feb 2025) EndedAt: 2025-02-21 08:29:58 -0500 (Fri, 21 Feb 2025) EllapsedTime: 9.7 seconds RetCode: 0 Status: OK PackageFile: metaCCA_1.35.0.zip PackageFileSize: 977 KiB