Package: metaCCA Version: 1.35.0 Command: /home/biocbuild/bbs-3.21-bioc/R/bin/R CMD check --install=check:metaCCA.install-out.txt --library=/home/biocbuild/bbs-3.21-bioc/R/site-library --timings metaCCA_1.35.0.tar.gz StartedAt: 2025-02-20 23:25:29 -0500 (Thu, 20 Feb 2025) EndedAt: 2025-02-20 23:25:50 -0500 (Thu, 20 Feb 2025) EllapsedTime: 21.0 seconds RetCode: 0 Status: WARNINGS CheckDir: metaCCA.Rcheck Warnings: 1