Package: metaCCA Version: 1.35.0 Command: /home/biocbuild/bbs-3.21-bioc/R/bin/R CMD build --keep-empty-dirs --no-resave-data metaCCA StartedAt: 2025-02-20 18:06:48 -0500 (Thu, 20 Feb 2025) EndedAt: 2025-02-20 18:06:55 -0500 (Thu, 20 Feb 2025) EllapsedTime: 7.0 seconds RetCode: 0 Status: OK PackageFile: metaCCA_1.35.0.tar.gz PackageFileSize: 923.9 KiB