Package: metaCCA Version: 1.35.0 Command: rm -rf metaCCA.buildbin-libdir && mkdir metaCCA.buildbin-libdir && /Users/biocbuild/BBS/utils/build-universal.sh metaCCA_1.35.0.tar.gz /Library/Frameworks/R.framework/Resources/bin/R metaCCA.buildbin-libdir StartedAt: 2025-02-21 00:39:00 -0500 (Fri, 21 Feb 2025) EndedAt: 2025-02-21 00:39:05 -0500 (Fri, 21 Feb 2025) EllapsedTime: 5.8 seconds RetCode: 0 Status: OK PackageFile: metaCCA_1.35.0.tgz PackageFileSize: 971.1 KiB