Package: messina Version: 1.43.0 Command: E:\biocbuild\bbs-3.21-bioc\R\bin\R.exe CMD check --no-multiarch --install=check:messina.install-out.txt --library=E:\biocbuild\bbs-3.21-bioc\R\library --no-vignettes --timings messina_1.43.0.tar.gz StartedAt: 2025-02-21 02:59:10 -0500 (Fri, 21 Feb 2025) EndedAt: 2025-02-21 03:02:40 -0500 (Fri, 21 Feb 2025) EllapsedTime: 209.9 seconds RetCode: 0 Status: WARNINGS CheckDir: messina.Rcheck Warnings: 1