Package: messina Version: 1.43.0 Command: chmod a+r messina -R && E:\biocbuild\bbs-3.21-bioc\R\bin\R.exe CMD build --keep-empty-dirs --no-resave-data messina StartedAt: 2025-02-20 19:48:37 -0500 (Thu, 20 Feb 2025) EndedAt: 2025-02-20 19:50:42 -0500 (Thu, 20 Feb 2025) EllapsedTime: 124.5 seconds RetCode: 0 Status: OK PackageFile: messina_1.43.0.tar.gz PackageFileSize: 298.6 KiB