Package: messina Version: 1.43.0 Command: rm -rf messina.buildbin-libdir && mkdir messina.buildbin-libdir && E:\biocbuild\bbs-3.21-bioc\R\bin\R.exe CMD INSTALL --build --library=messina.buildbin-libdir messina_1.43.0.tar.gz StartedAt: 2025-02-21 08:29:27 -0500 (Fri, 21 Feb 2025) EndedAt: 2025-02-21 08:30:02 -0500 (Fri, 21 Feb 2025) EllapsedTime: 35.1 seconds RetCode: 0 Status: OK PackageFile: messina_1.43.0.zip PackageFileSize: 846.8 KiB