Package: messina Version: 1.43.0 Command: /Library/Frameworks/R.framework/Resources/bin/R CMD check --install=check:messina.install-out.txt --library=/Library/Frameworks/R.framework/Resources/library --no-vignettes --timings messina_1.43.0.tar.gz StartedAt: 2025-02-20 21:27:51 -0500 (Thu, 20 Feb 2025) EndedAt: 2025-02-20 21:30:33 -0500 (Thu, 20 Feb 2025) EllapsedTime: 162.2 seconds RetCode: 0 Status: OK CheckDir: messina.Rcheck Warnings: 0