Package: messina Version: 1.43.0 Command: /Library/Frameworks/R.framework/Resources/bin/R CMD build --keep-empty-dirs --no-resave-data messina StartedAt: 2025-02-20 16:51:00 -0500 (Thu, 20 Feb 2025) EndedAt: 2025-02-20 16:51:30 -0500 (Thu, 20 Feb 2025) EllapsedTime: 29.3 seconds RetCode: 0 Status: OK PackageFile: messina_1.43.0.tar.gz PackageFileSize: 297.1 KiB