Package: messina Version: 1.43.0 Command: rm -rf messina.buildbin-libdir && mkdir messina.buildbin-libdir && /Users/biocbuild/BBS/utils/build-universal.sh messina_1.43.0.tar.gz /Library/Frameworks/R.framework/Resources/bin/R messina.buildbin-libdir StartedAt: 2025-02-20 22:24:50 -0500 (Thu, 20 Feb 2025) EndedAt: 2025-02-20 22:24:59 -0500 (Thu, 20 Feb 2025) EllapsedTime: 9.2 seconds RetCode: 0 Status: OK PackageFile: messina_1.43.0.tgz PackageFileSize: 535.9 KiB