Package: meshr Version: 2.13.0 Command: E:\biocbuild\bbs-3.21-bioc\R\bin\R.exe CMD INSTALL meshr StartedAt: 2025-02-20 15:57:30 -0500 (Thu, 20 Feb 2025) EndedAt: 2025-02-20 15:58:05 -0500 (Thu, 20 Feb 2025) EllapsedTime: 35.4 seconds RetCode: 0 Status: OK