Package: meshr Version: 2.13.0 Command: /Library/Frameworks/R.framework/Resources/bin/R CMD check --install=check:meshr.install-out.txt --library=/Library/Frameworks/R.framework/Resources/library --no-vignettes --timings meshr_2.13.0.tar.gz StartedAt: 2025-02-20 21:27:33 -0500 (Thu, 20 Feb 2025) EndedAt: 2025-02-20 21:29:59 -0500 (Thu, 20 Feb 2025) EllapsedTime: 146.0 seconds RetCode: 0 Status: OK CheckDir: meshr.Rcheck Warnings: 0