Package: meshr Version: 2.13.0 Command: /Library/Frameworks/R.framework/Resources/bin/R CMD build --keep-empty-dirs --no-resave-data meshr StartedAt: 2025-02-20 17:14:51 -0500 (Thu, 20 Feb 2025) EndedAt: 2025-02-20 17:15:21 -0500 (Thu, 20 Feb 2025) EllapsedTime: 29.9 seconds RetCode: 0 Status: OK PackageFile: meshr_2.13.0.tar.gz PackageFileSize: 1002 KiB