Package: memes Version: 1.15.0 Command: E:\biocbuild\bbs-3.21-bioc\R\bin\R.exe CMD INSTALL memes StartedAt: 2025-02-20 15:50:24 -0500 (Thu, 20 Feb 2025) EndedAt: 2025-02-20 15:51:14 -0500 (Thu, 20 Feb 2025) EllapsedTime: 50.2 seconds RetCode: 0 Status: OK