Package: memes Version: 1.15.0 Command: chmod a+r memes -R && E:\biocbuild\bbs-3.21-bioc\R\bin\R.exe CMD build --keep-empty-dirs --no-resave-data memes StartedAt: 2025-02-20 19:48:03 -0500 (Thu, 20 Feb 2025) EndedAt: 2025-02-20 19:49:50 -0500 (Thu, 20 Feb 2025) EllapsedTime: 106.8 seconds RetCode: 0 Status: OK PackageFile: memes_1.15.0.tar.gz PackageFileSize: 1.008 MiB