Package: memes Version: 1.15.0 Command: /home/biocbuild/bbs-3.21-bioc/R/bin/R CMD check --install=check:memes.install-out.txt --library=/home/biocbuild/bbs-3.21-bioc/R/site-library --timings memes_1.15.0.tar.gz StartedAt: 2025-02-20 23:22:37 -0500 (Thu, 20 Feb 2025) EndedAt: 2025-02-20 23:25:29 -0500 (Thu, 20 Feb 2025) EllapsedTime: 172.2 seconds RetCode: 0 Status: WARNINGS CheckDir: memes.Rcheck Warnings: 1