Package: memes Version: 1.15.0 Command: /home/biocbuild/bbs-3.21-bioc/R/bin/R CMD build --keep-empty-dirs --no-resave-data memes StartedAt: 2025-02-20 18:05:41 -0500 (Thu, 20 Feb 2025) EndedAt: 2025-02-20 18:06:32 -0500 (Thu, 20 Feb 2025) EllapsedTime: 51.0 seconds RetCode: 0 Status: OK PackageFile: memes_1.15.0.tar.gz PackageFileSize: 1.041 MiB