Package: memes Version: 1.15.0 Command: /Library/Frameworks/R.framework/Resources/bin/R CMD INSTALL memes StartedAt: 2025-02-20 15:18:45 -0500 (Thu, 20 Feb 2025) EndedAt: 2025-02-20 15:18:50 -0500 (Thu, 20 Feb 2025) EllapsedTime: 5.4 seconds RetCode: 0 Status: OK