Package: memes Version: 1.15.0 Command: /Library/Frameworks/R.framework/Resources/bin/R CMD check --install=check:memes.install-out.txt --library=/Library/Frameworks/R.framework/Resources/library --no-vignettes --timings memes_1.15.0.tar.gz StartedAt: 2025-02-20 20:02:44 -0500 (Thu, 20 Feb 2025) EndedAt: 2025-02-20 20:03:31 -0500 (Thu, 20 Feb 2025) EllapsedTime: 46.5 seconds RetCode: 0 Status: WARNINGS CheckDir: memes.Rcheck Warnings: 1