Package: megadepth Version: 1.17.0 Command: /Library/Frameworks/R.framework/Resources/bin/R CMD build --keep-empty-dirs --no-resave-data megadepth StartedAt: 2025-02-19 17:14:46 -0500 (Wed, 19 Feb 2025) EndedAt: 2025-02-19 17:15:27 -0500 (Wed, 19 Feb 2025) EllapsedTime: 41.0 seconds RetCode: 0 Status: OK PackageFile: megadepth_1.17.0.tar.gz PackageFileSize: 465.6 KiB