Package: megadepth Version: 1.17.0 Command: rm -rf megadepth.buildbin-libdir && mkdir megadepth.buildbin-libdir && /Users/biocbuild/BBS/utils/build-universal.sh megadepth_1.17.0.tar.gz /Library/Frameworks/R.framework/Resources/bin/R megadepth.buildbin-libdir StartedAt: 2025-02-20 00:39:55 -0500 (Thu, 20 Feb 2025) EndedAt: 2025-02-20 00:40:14 -0500 (Thu, 20 Feb 2025) EllapsedTime: 18.4 seconds RetCode: 0 Status: OK PackageFile: megadepth_1.17.0.tgz PackageFileSize: 483.3 KiB