Package: megadepth Version: 1.17.0 Command: /Library/Frameworks/R.framework/Resources/bin/R CMD INSTALL megadepth StartedAt: 2025-02-19 15:19:17 -0500 (Wed, 19 Feb 2025) EndedAt: 2025-02-19 15:19:22 -0500 (Wed, 19 Feb 2025) EllapsedTime: 4.7 seconds RetCode: 0 Status: OK