Package: mdqc Version: 1.69.0 Command: E:\biocbuild\bbs-3.21-bioc\R\bin\R.exe CMD INSTALL mdqc StartedAt: 2025-02-18 15:18:20 -0500 (Tue, 18 Feb 2025) EndedAt: 2025-02-18 15:18:27 -0500 (Tue, 18 Feb 2025) EllapsedTime: 7.3 seconds RetCode: 0 Status: OK