Package: mdqc Version: 1.69.0 Command: /home/biocbuild/bbs-3.21-bioc/R/bin/R CMD INSTALL mdqc StartedAt: 2025-02-18 15:01:32 -0500 (Tue, 18 Feb 2025) EndedAt: 2025-02-18 15:01:48 -0500 (Tue, 18 Feb 2025) EllapsedTime: 15.4 seconds RetCode: 0 Status: OK