Package: mdqc Version: 1.69.0 Command: /home/biocbuild/bbs-3.21-bioc/R/bin/R CMD build --keep-empty-dirs --no-resave-data mdqc StartedAt: 2025-02-18 17:52:22 -0500 (Tue, 18 Feb 2025) EndedAt: 2025-02-18 17:52:29 -0500 (Tue, 18 Feb 2025) EllapsedTime: 7.0 seconds RetCode: 0 Status: OK PackageFile: mdqc_1.69.0.tar.gz PackageFileSize: 258.5 KiB