Package: mdqc Version: 1.69.0 Command: /Library/Frameworks/R.framework/Resources/bin/R CMD INSTALL mdqc StartedAt: 2025-02-18 15:01:14 -0500 (Tue, 18 Feb 2025) EndedAt: 2025-02-18 15:01:18 -0500 (Tue, 18 Feb 2025) EllapsedTime: 3.2 seconds RetCode: 0 Status: OK