Package: mbkmeans Version: 1.23.0 Command: chmod a+r mbkmeans -R && E:\biocbuild\bbs-3.21-bioc\R\bin\R.exe CMD build --keep-empty-dirs --no-resave-data mbkmeans StartedAt: 2025-02-18 19:40:08 -0500 (Tue, 18 Feb 2025) EndedAt: 2025-02-18 19:43:58 -0500 (Tue, 18 Feb 2025) EllapsedTime: 230.7 seconds RetCode: 0 Status: OK PackageFile: mbkmeans_1.23.0.tar.gz PackageFileSize: 257.5 KiB