Package: matter Version: 2.9.1 Command: E:\biocbuild\bbs-3.21-bioc\R\bin\R.exe CMD INSTALL matter StartedAt: 2025-02-18 15:40:16 -0500 (Tue, 18 Feb 2025) EndedAt: 2025-02-18 15:45:04 -0500 (Tue, 18 Feb 2025) EllapsedTime: 288.6 seconds RetCode: 0 Status: OK