Package: matter Version: 2.9.1 Command: /Library/Frameworks/R.framework/Resources/bin/R CMD INSTALL matter StartedAt: 2025-02-18 15:17:24 -0500 (Tue, 18 Feb 2025) EndedAt: 2025-02-18 15:18:18 -0500 (Tue, 18 Feb 2025) EllapsedTime: 54.5 seconds RetCode: 0 Status: OK