Package: matchBox Version: 1.49.0 Command: E:\biocbuild\bbs-3.21-bioc\R\bin\R.exe CMD INSTALL matchBox StartedAt: 2025-02-18 15:17:15 -0500 (Tue, 18 Feb 2025) EndedAt: 2025-02-18 15:17:29 -0500 (Tue, 18 Feb 2025) EllapsedTime: 14.8 seconds RetCode: 0 Status: OK