Package: matchBox Version: 1.49.0 Command: chmod a+r matchBox -R && E:\biocbuild\bbs-3.21-bioc\R\bin\R.exe CMD build --keep-empty-dirs --no-resave-data matchBox StartedAt: 2025-02-18 19:38:37 -0500 (Tue, 18 Feb 2025) EndedAt: 2025-02-18 19:38:54 -0500 (Tue, 18 Feb 2025) EllapsedTime: 17.2 seconds RetCode: 0 Status: OK PackageFile: matchBox_1.49.0.tar.gz PackageFileSize: 605.7 KiB