Package: matchBox Version: 1.49.0 Command: /home/biocbuild/bbs-3.21-bioc/R/bin/R CMD check --install=check:matchBox.install-out.txt --library=/home/biocbuild/bbs-3.21-bioc/R/site-library --timings matchBox_1.49.0.tar.gz StartedAt: 2025-02-18 23:29:43 -0500 (Tue, 18 Feb 2025) EndedAt: 2025-02-18 23:30:04 -0500 (Tue, 18 Feb 2025) EllapsedTime: 21.0 seconds RetCode: 0 Status: OK CheckDir: matchBox.Rcheck Warnings: 0