Package: matchBox Version: 1.49.0 Command: /Library/Frameworks/R.framework/Resources/bin/R CMD INSTALL matchBox StartedAt: 2025-02-18 15:03:05 -0500 (Tue, 18 Feb 2025) EndedAt: 2025-02-18 15:03:21 -0500 (Tue, 18 Feb 2025) EllapsedTime: 15.7 seconds RetCode: 0 Status: OK